BEGIN:VCALENDAR
VERSION:2.0
PRODID:-//StraightFlo Valves - Formerly Zahroof Valves - ECPv6.15.20//NONSGML v1.0//EN
CALSCALE:GREGORIAN
METHOD:PUBLISH
X-ORIGINAL-URL:https://zahroofvalves.com
X-WR-CALDESC:Events for StraightFlo Valves - Formerly Zahroof Valves
REFRESH-INTERVAL;VALUE=DURATION:PT1H
X-Robots-Tag:noindex
X-PUBLISHED-TTL:PT1H
BEGIN:VTIMEZONE
TZID:America/Chicago
BEGIN:DAYLIGHT
TZOFFSETFROM:-0600
TZOFFSETTO:-0500
TZNAME:CDT
DTSTART:20250309T080000
END:DAYLIGHT
BEGIN:STANDARD
TZOFFSETFROM:-0500
TZOFFSETTO:-0600
TZNAME:CST
DTSTART:20251102T070000
END:STANDARD
BEGIN:DAYLIGHT
TZOFFSETFROM:-0600
TZOFFSETTO:-0500
TZNAME:CDT
DTSTART:20260308T080000
END:DAYLIGHT
BEGIN:STANDARD
TZOFFSETFROM:-0500
TZOFFSETTO:-0600
TZNAME:CST
DTSTART:20261101T070000
END:STANDARD
BEGIN:DAYLIGHT
TZOFFSETFROM:-0600
TZOFFSETTO:-0500
TZNAME:CDT
DTSTART:20270314T080000
END:DAYLIGHT
BEGIN:STANDARD
TZOFFSETFROM:-0500
TZOFFSETTO:-0600
TZNAME:CST
DTSTART:20271107T070000
END:STANDARD
END:VTIMEZONE
BEGIN:VEVENT
DTSTART;TZID=America/Chicago:20260922T080000
DTEND;TZID=America/Chicago:20260924T170000
DTSTAMP:20260419T211712
CREATED:20251203T175054Z
LAST-MODIFIED:20251203T175054Z
UID:4455-1790064000-1790269200@zahroofvalves.com
SUMMARY:2026 Turbomachinery & Pump Symposia
DESCRIPTION:
URL:https://zahroofvalves.com/event/2026-turbomachinery-pump-symposia/
LOCATION:George R. Brown Convention Center 1001 Avenida De Las Americas\, Houston\, TX 77010\, United States
END:VEVENT
BEGIN:VEVENT
DTSTART;TZID=America/Chicago:20261004T080000
DTEND;TZID=America/Chicago:20261007T170000
DTSTAMP:20260419T211712
CREATED:20251203T174700Z
LAST-MODIFIED:20251203T174700Z
UID:4452-1791100800-1791392400@zahroofvalves.com
SUMMARY:2026 Gas Machinery Conference
DESCRIPTION:
URL:https://zahroofvalves.com/event/2026-gas-machinery-conference/
LOCATION:Indianapolis\, IN
END:VEVENT
BEGIN:VEVENT
DTSTART;TZID=America/Chicago:20261020T080000
DTEND;TZID=America/Chicago:20261022T170000
DTSTAMP:20260419T211712
CREATED:20251203T175947Z
LAST-MODIFIED:20251203T175947Z
UID:4459-1792483200-1792688400@zahroofvalves.com
SUMMARY:Hydrogen Technology World Expo 2026
DESCRIPTION:
URL:https://zahroofvalves.com/event/hydrogen-technology-world-expo-2026/
LOCATION:Hamburg Messe  Messeplatz 1\, 20357\, Germany
END:VEVENT
BEGIN:VEVENT
DTSTART;TZID=America/Chicago:20261102T080000
DTEND;TZID=America/Chicago:20261105T170000
DTSTAMP:20260419T211712
CREATED:20251203T174058Z
LAST-MODIFIED:20251203T174058Z
UID:4450-1793606400-1793898000@zahroofvalves.com
SUMMARY:ADIPEC 2026
DESCRIPTION:
URL:https://zahroofvalves.com/event/adipec-2026/
LOCATION:ADNEC Centre Abu Dhabi  Khaleej Al Arabi Street\, Abu Dhabi\, United Arab Emirates
END:VEVENT
END:VCALENDAR