BEGIN:VCALENDAR
VERSION:2.0
PRODID:-//StraightFlo Valves - Formerly Zahroof Valves - ECPv6.15.20//NONSGML v1.0//EN
CALSCALE:GREGORIAN
METHOD:PUBLISH
X-WR-CALNAME:StraightFlo Valves - Formerly Zahroof Valves
X-ORIGINAL-URL:https://zahroofvalves.com
X-WR-CALDESC:Events for StraightFlo Valves - Formerly Zahroof Valves
REFRESH-INTERVAL;VALUE=DURATION:PT1H
X-Robots-Tag:noindex
X-PUBLISHED-TTL:PT1H
BEGIN:VTIMEZONE
TZID:UTC
BEGIN:STANDARD
TZOFFSETFROM:+0000
TZOFFSETTO:+0000
TZNAME:UTC
DTSTART:20210101T000000
END:STANDARD
END:VTIMEZONE
BEGIN:VTIMEZONE
TZID:America/Chicago
BEGIN:DAYLIGHT
TZOFFSETFROM:-0600
TZOFFSETTO:-0500
TZNAME:CDT
DTSTART:20230312T080000
END:DAYLIGHT
BEGIN:STANDARD
TZOFFSETFROM:-0500
TZOFFSETTO:-0600
TZNAME:CST
DTSTART:20231105T070000
END:STANDARD
BEGIN:DAYLIGHT
TZOFFSETFROM:-0600
TZOFFSETTO:-0500
TZNAME:CDT
DTSTART:20240310T080000
END:DAYLIGHT
BEGIN:STANDARD
TZOFFSETFROM:-0500
TZOFFSETTO:-0600
TZNAME:CST
DTSTART:20241103T070000
END:STANDARD
BEGIN:DAYLIGHT
TZOFFSETFROM:-0600
TZOFFSETTO:-0500
TZNAME:CDT
DTSTART:20250309T080000
END:DAYLIGHT
BEGIN:STANDARD
TZOFFSETFROM:-0500
TZOFFSETTO:-0600
TZNAME:CST
DTSTART:20251102T070000
END:STANDARD
END:VTIMEZONE
BEGIN:VEVENT
DTSTART;VALUE=DATE:20240325
DTEND;VALUE=DATE:20240329
DTSTAMP:20260419T133124
CREATED:20230425T060922Z
LAST-MODIFIED:20240305T130736Z
UID:1344-1711324800-1711670399@zahroofvalves.com
SUMMARY:Gas Compressor Association Expo
DESCRIPTION:
URL:https://zahroofvalves.com/event/gas-compressor-association/
LOCATION:Moody Gardens 7 Hope Avenue Galveston\, TX 77554
END:VEVENT
BEGIN:VEVENT
DTSTART;VALUE=DATE:20240318
DTEND;VALUE=DATE:20240321
DTSTAMP:20260419T133124
CREATED:20230425T062127Z
LAST-MODIFIED:20240305T000044Z
UID:1349-1710720000-1710979199@zahroofvalves.com
SUMMARY:SGA Spring Gas Conference
DESCRIPTION:
URL:https://zahroofvalves.com/event/energy-exposition/
LOCATION:Columbia Convention Center 1101 Lincoln St Columbia\, SC 29201
CATEGORIES:ZVI Events
END:VEVENT
BEGIN:VEVENT
DTSTART;VALUE=DATE:20240313
DTEND;VALUE=DATE:20240316
DTSTAMP:20260419T133124
CREATED:20231026T150014Z
LAST-MODIFIED:20240304T235955Z
UID:3040-1710288000-1710547199@zahroofvalves.com
SUMMARY:AOG Energy
DESCRIPTION:
URL:https://zahroofvalves.com/event/the-22nd-korea-rotating-machinery-symposium/
LOCATION:Perth Convention & Exhibition Centre 21 Mounts Bay Rd\, Perth WA 6000
END:VEVENT
BEGIN:VEVENT
DTSTART;VALUE=DATE:20230917
DTEND;VALUE=DATE:20230921
DTSTAMP:20260419T133124
CREATED:20230425T055548Z
LAST-MODIFIED:20231212T161805Z
UID:1334-1694908800-1695254399@zahroofvalves.com
SUMMARY:Gas Processors Association Midstream
DESCRIPTION:
URL:https://zahroofvalves.com/event/gas-processors-association-midstream/
LOCATION:Marriott Rivercenter Hotel\, 101 Bowie Street\, San Antonio\, TX\, 78205\, United States
END:VEVENT
BEGIN:VEVENT
DTSTART;VALUE=DATE:20220913
DTEND;VALUE=DATE:20220916
DTSTAMP:20260419T133124
CREATED:20230425T061039Z
LAST-MODIFIED:20231212T165119Z
UID:1347-1663027200-1663286399@zahroofvalves.com
SUMMARY:Turbomachinery & Pump Symposia   
DESCRIPTION:Turbomachinery & Pump Symposia    \nSeptember 13-15\, 2022  \nGeorge R. Brown Convention Center  \n1001 Avenida De Las Americas  \nHouston\, TX 77010  \nBooth #2804  \nhttps://tps.tamu.edu/ 
URL:https://zahroofvalves.com/event/turbomachinery-pump-symposia-2/
CATEGORIES:ZVI Events
ATTACH;FMTTYPE=image/jpeg:https://zahroofvalves.com/wp-content/uploads/2023/04/Home-Banner.jpg
END:VEVENT
END:VCALENDAR