BEGIN:VCALENDAR
VERSION:2.0
PRODID:-//StraightFlo Valves - Formerly Zahroof Valves - ECPv6.15.20//NONSGML v1.0//EN
CALSCALE:GREGORIAN
METHOD:PUBLISH
X-WR-CALNAME:StraightFlo Valves - Formerly Zahroof Valves
X-ORIGINAL-URL:https://zahroofvalves.com
X-WR-CALDESC:Events for StraightFlo Valves - Formerly Zahroof Valves
REFRESH-INTERVAL;VALUE=DURATION:PT1H
X-Robots-Tag:noindex
X-PUBLISHED-TTL:PT1H
BEGIN:VTIMEZONE
TZID:UTC
BEGIN:STANDARD
TZOFFSETFROM:+0000
TZOFFSETTO:+0000
TZNAME:UTC
DTSTART:20210101T000000
END:STANDARD
END:VTIMEZONE
BEGIN:VEVENT
DTSTART;VALUE=DATE:20230917
DTEND;VALUE=DATE:20230921
DTSTAMP:20260419T235925
CREATED:20230425T055548Z
LAST-MODIFIED:20231212T161805Z
UID:1334-1694908800-1695254399@zahroofvalves.com
SUMMARY:Gas Processors Association Midstream
DESCRIPTION:
URL:https://zahroofvalves.com/event/gas-processors-association-midstream/
LOCATION:Marriott Rivercenter Hotel\, 101 Bowie Street\, San Antonio\, TX\, 78205\, United States
END:VEVENT
BEGIN:VEVENT
DTSTART;VALUE=DATE:20220913
DTEND;VALUE=DATE:20220916
DTSTAMP:20260419T235925
CREATED:20230425T061039Z
LAST-MODIFIED:20231212T165119Z
UID:1347-1663027200-1663286399@zahroofvalves.com
SUMMARY:Turbomachinery & Pump Symposia   
DESCRIPTION:Turbomachinery & Pump Symposia    \nSeptember 13-15\, 2022  \nGeorge R. Brown Convention Center  \n1001 Avenida De Las Americas  \nHouston\, TX 77010  \nBooth #2804  \nhttps://tps.tamu.edu/ 
URL:https://zahroofvalves.com/event/turbomachinery-pump-symposia-2/
CATEGORIES:ZVI Events
ATTACH;FMTTYPE=image/jpeg:https://zahroofvalves.com/wp-content/uploads/2023/04/Home-Banner.jpg
END:VEVENT
END:VCALENDAR